BEGIN:VCALENDAR
VERSION:2.0
PRODID:-//Bcn Prevención Integral - ECPv6.15.20//NONSGML v1.0//EN
CALSCALE:GREGORIAN
METHOD:PUBLISH
X-ORIGINAL-URL:https://www.bcnprevencionintegral.com
X-WR-CALDESC:Eventos para Bcn Prevención Integral
REFRESH-INTERVAL;VALUE=DURATION:PT1H
X-Robots-Tag:noindex
X-PUBLISHED-TTL:PT1H
BEGIN:VTIMEZONE
TZID:Europe/Madrid
BEGIN:DAYLIGHT
TZOFFSETFROM:+0100
TZOFFSETTO:+0200
TZNAME:CEST
DTSTART:20250330T010000
END:DAYLIGHT
BEGIN:STANDARD
TZOFFSETFROM:+0200
TZOFFSETTO:+0100
TZNAME:CET
DTSTART:20251026T010000
END:STANDARD
BEGIN:DAYLIGHT
TZOFFSETFROM:+0100
TZOFFSETTO:+0200
TZNAME:CEST
DTSTART:20260329T010000
END:DAYLIGHT
BEGIN:STANDARD
TZOFFSETFROM:+0200
TZOFFSETTO:+0100
TZNAME:CET
DTSTART:20261025T010000
END:STANDARD
BEGIN:DAYLIGHT
TZOFFSETFROM:+0100
TZOFFSETTO:+0200
TZNAME:CEST
DTSTART:20270328T010000
END:DAYLIGHT
BEGIN:STANDARD
TZOFFSETFROM:+0200
TZOFFSETTO:+0100
TZNAME:CET
DTSTART:20271031T010000
END:STANDARD
END:VTIMEZONE
BEGIN:VEVENT
DTSTART;VALUE=DATE:20260216
DTEND;VALUE=DATE:20260217
DTSTAMP:20260426T012414
CREATED:20260216T093651Z
LAST-MODIFIED:20260216T093651Z
UID:10000007-1771200000-1771286399@www.bcnprevencionintegral.com
SUMMARY:1º Sesión TPC CARPINTERIA METALICA (20H)
DESCRIPTION:
URL:https://www.bcnprevencionintegral.com/event/1o-sesion-tpc-carpinteria-metalica-20h/
LOCATION:BCN Prevención Integral – BARCELONA\, C/ Santander\, nº 42-48 - Nave 26-27\, Barcelona\, Barcelona\, 08020\, Spain
END:VEVENT
BEGIN:VEVENT
DTSTART;VALUE=DATE:20260216
DTEND;VALUE=DATE:20260217
DTSTAMP:20260426T012414
CREATED:20260216T094955Z
LAST-MODIFIED:20260305T080508Z
UID:10000010-1771200000-1771286399@www.bcnprevencionintegral.com
SUMMARY:CURSO DE CARRETILLA ELEVADORAS
DESCRIPTION:Curso de carretilla elevadora en Barcelona 100% presencial con normativa UNE. \nConsigue tu carnet de carretillero homologado con formación práctica\, seguridad laboral y certificación válida para empresas. \n 
URL:https://www.bcnprevencionintegral.com/event/curso-de-carretilla-elevadoras/2026-02-16/
LOCATION:BCN Prevención Integral – BARCELONA\, C/ Santander\, nº 42-48 - Nave 26-27\, Barcelona\, Barcelona\, 08020\, Spain
ORGANIZER;CN="bcn Prevencion integral":MAILTO:prevencionintegral.com
END:VEVENT
BEGIN:VEVENT
DTSTART;VALUE=DATE:20260216
DTEND;VALUE=DATE:20260217
DTSTAMP:20260426T012414
CREATED:20260216T095810Z
LAST-MODIFIED:20260216T095810Z
UID:10000022-1771200000-1771286399@www.bcnprevencionintegral.com
SUMMARY:Plataformas Elevadoras Pemp
DESCRIPTION:
URL:https://www.bcnprevencionintegral.com/event/plataformas-elevadoras-pemp/2026-02-16/
LOCATION:BCN Prevención Integral – BARCELONA\, C/ Santander\, nº 42-48 - Nave 26-27\, Barcelona\, Barcelona\, 08020\, Spain
END:VEVENT
BEGIN:VEVENT
DTSTART;VALUE=DATE:20260216
DTEND;VALUE=DATE:20260217
DTSTAMP:20260426T012414
CREATED:20260216T100254Z
LAST-MODIFIED:20260216T100254Z
UID:10000034-1771200000-1771286399@www.bcnprevencionintegral.com
SUMMARY:Recogepedidos
DESCRIPTION:
URL:https://www.bcnprevencionintegral.com/event/recogepedidos/2026-02-16/
LOCATION:BCN Prevención Integral – BARCELONA\, C/ Santander\, nº 42-48 - Nave 26-27\, Barcelona\, Barcelona\, 08020\, Spain
END:VEVENT
BEGIN:VEVENT
DTSTART;VALUE=DATE:20260217
DTEND;VALUE=DATE:20260218
DTSTAMP:20260426T012414
CREATED:20260216T100353Z
LAST-MODIFIED:20260216T100422Z
UID:10000046-1771286400-1771372799@www.bcnprevencionintegral.com
SUMMARY:2º Sesión TPC CARPINTERIA METALICA (20H)
DESCRIPTION:
URL:https://www.bcnprevencionintegral.com/event/2o-sesion-tpc-carpinteria-metalica-20h/2026-02-17/
LOCATION:BCN Prevención Integral – BARCELONA\, C/ Santander\, nº 42-48 - Nave 26-27\, Barcelona\, Barcelona\, 08020\, Spain
END:VEVENT
BEGIN:VEVENT
DTSTART;VALUE=DATE:20260218
DTEND;VALUE=DATE:20260219
DTSTAMP:20260426T012414
CREATED:20260216T094955Z
LAST-MODIFIED:20260305T080508Z
UID:10000011-1771376400-1771457400@www.bcnprevencionintegral.com
SUMMARY:CURSO DE CARRETILLA ELEVADORAS
DESCRIPTION:Curso de carretilla elevadora en Barcelona 100% presencial con normativa UNE. \nConsigue tu carnet de carretillero homologado con formación práctica\, seguridad laboral y certificación válida para empresas. \n 
URL:https://www.bcnprevencionintegral.com/event/curso-de-carretilla-elevadoras/2026-02-18/
LOCATION:BCN Prevención Integral – BARCELONA\, C/ Santander\, nº 42-48 - Nave 26-27\, Barcelona\, Barcelona\, 08020\, Spain
ORGANIZER;CN="bcn Prevencion integral":MAILTO:prevencionintegral.com
END:VEVENT
BEGIN:VEVENT
DTSTART;VALUE=DATE:20260218
DTEND;VALUE=DATE:20260219
DTSTAMP:20260426T012414
CREATED:20260216T095810Z
LAST-MODIFIED:20260216T095810Z
UID:10000023-1771376400-1771457400@www.bcnprevencionintegral.com
SUMMARY:Plataformas Elevadoras Pemp
DESCRIPTION:
URL:https://www.bcnprevencionintegral.com/event/plataformas-elevadoras-pemp/2026-02-18/
LOCATION:BCN Prevención Integral – BARCELONA\, C/ Santander\, nº 42-48 - Nave 26-27\, Barcelona\, Barcelona\, 08020\, Spain
END:VEVENT
BEGIN:VEVENT
DTSTART;VALUE=DATE:20260218
DTEND;VALUE=DATE:20260219
DTSTAMP:20260426T012414
CREATED:20260216T100254Z
LAST-MODIFIED:20260216T100254Z
UID:10000035-1771376400-1771457400@www.bcnprevencionintegral.com
SUMMARY:Recogepedidos
DESCRIPTION:
URL:https://www.bcnprevencionintegral.com/event/recogepedidos/2026-02-18/
LOCATION:BCN Prevención Integral – BARCELONA\, C/ Santander\, nº 42-48 - Nave 26-27\, Barcelona\, Barcelona\, 08020\, Spain
END:VEVENT
BEGIN:VEVENT
DTSTART;VALUE=DATE:20260220
DTEND;VALUE=DATE:20260221
DTSTAMP:20260426T012414
CREATED:20260216T094955Z
LAST-MODIFIED:20260305T080508Z
UID:10000012-1771549200-1771630200@www.bcnprevencionintegral.com
SUMMARY:CURSO DE CARRETILLA ELEVADORAS
DESCRIPTION:Curso de carretilla elevadora en Barcelona 100% presencial con normativa UNE. \nConsigue tu carnet de carretillero homologado con formación práctica\, seguridad laboral y certificación válida para empresas. \n 
URL:https://www.bcnprevencionintegral.com/event/curso-de-carretilla-elevadoras/2026-02-20/
LOCATION:BCN Prevención Integral – BARCELONA\, C/ Santander\, nº 42-48 - Nave 26-27\, Barcelona\, Barcelona\, 08020\, Spain
ORGANIZER;CN="bcn Prevencion integral":MAILTO:prevencionintegral.com
END:VEVENT
BEGIN:VEVENT
DTSTART;VALUE=DATE:20260220
DTEND;VALUE=DATE:20260221
DTSTAMP:20260426T012414
CREATED:20260216T095810Z
LAST-MODIFIED:20260216T095810Z
UID:10000024-1771549200-1771630200@www.bcnprevencionintegral.com
SUMMARY:Plataformas Elevadoras Pemp
DESCRIPTION:
URL:https://www.bcnprevencionintegral.com/event/plataformas-elevadoras-pemp/2026-02-20/
LOCATION:BCN Prevención Integral – BARCELONA\, C/ Santander\, nº 42-48 - Nave 26-27\, Barcelona\, Barcelona\, 08020\, Spain
END:VEVENT
BEGIN:VEVENT
DTSTART;VALUE=DATE:20260220
DTEND;VALUE=DATE:20260221
DTSTAMP:20260426T012414
CREATED:20260216T100254Z
LAST-MODIFIED:20260216T100254Z
UID:10000036-1771549200-1771630200@www.bcnprevencionintegral.com
SUMMARY:Recogepedidos
DESCRIPTION:
URL:https://www.bcnprevencionintegral.com/event/recogepedidos/2026-02-20/
LOCATION:BCN Prevención Integral – BARCELONA\, C/ Santander\, nº 42-48 - Nave 26-27\, Barcelona\, Barcelona\, 08020\, Spain
END:VEVENT
BEGIN:VEVENT
DTSTART;VALUE=DATE:20260221
DTEND;VALUE=DATE:20260222
DTSTAMP:20260426T012414
CREATED:20260216T100535Z
LAST-MODIFIED:20260216T100535Z
UID:10000048-1771632000-1771718399@www.bcnprevencionintegral.com
SUMMARY:PUENTE GRÚA BARCELONA
DESCRIPTION:
URL:https://www.bcnprevencionintegral.com/event/puente-grua-barcelona/
LOCATION:BCN Prevención Integral – BARCELONA\, C/ Santander\, nº 42-48 - Nave 26-27\, Barcelona\, Barcelona\, 08020\, Spain
END:VEVENT
BEGIN:VEVENT
DTSTART;VALUE=DATE:20260221
DTEND;VALUE=DATE:20260222
DTSTAMP:20260426T012414
CREATED:20260216T094955Z
LAST-MODIFIED:20260305T080508Z
UID:10000013-1771635600-1771716600@www.bcnprevencionintegral.com
SUMMARY:CURSO DE CARRETILLA ELEVADORAS
DESCRIPTION:Curso de carretilla elevadora en Barcelona 100% presencial con normativa UNE. \nConsigue tu carnet de carretillero homologado con formación práctica\, seguridad laboral y certificación válida para empresas. \n 
URL:https://www.bcnprevencionintegral.com/event/curso-de-carretilla-elevadoras/2026-02-21/
LOCATION:BCN Prevención Integral – BARCELONA\, C/ Santander\, nº 42-48 - Nave 26-27\, Barcelona\, Barcelona\, 08020\, Spain
ORGANIZER;CN="bcn Prevencion integral":MAILTO:prevencionintegral.com
END:VEVENT
BEGIN:VEVENT
DTSTART;VALUE=DATE:20260221
DTEND;VALUE=DATE:20260222
DTSTAMP:20260426T012414
CREATED:20260216T095810Z
LAST-MODIFIED:20260216T095810Z
UID:10000025-1771635600-1771716600@www.bcnprevencionintegral.com
SUMMARY:Plataformas Elevadoras Pemp
DESCRIPTION:
URL:https://www.bcnprevencionintegral.com/event/plataformas-elevadoras-pemp/2026-02-21/
LOCATION:BCN Prevención Integral – BARCELONA\, C/ Santander\, nº 42-48 - Nave 26-27\, Barcelona\, Barcelona\, 08020\, Spain
END:VEVENT
BEGIN:VEVENT
DTSTART;VALUE=DATE:20260221
DTEND;VALUE=DATE:20260222
DTSTAMP:20260426T012414
CREATED:20260216T100254Z
LAST-MODIFIED:20260216T100254Z
UID:10000037-1771635600-1771716600@www.bcnprevencionintegral.com
SUMMARY:Recogepedidos
DESCRIPTION:
URL:https://www.bcnprevencionintegral.com/event/recogepedidos/2026-02-21/
LOCATION:BCN Prevención Integral – BARCELONA\, C/ Santander\, nº 42-48 - Nave 26-27\, Barcelona\, Barcelona\, 08020\, Spain
END:VEVENT
BEGIN:VEVENT
DTSTART;VALUE=DATE:20260221
DTEND;VALUE=DATE:20260222
DTSTAMP:20260426T012414
CREATED:20260216T100353Z
LAST-MODIFIED:20260216T100422Z
UID:10000047-1771635600-1771716600@www.bcnprevencionintegral.com
SUMMARY:2º Sesión TPC CARPINTERIA METALICA (20H)
DESCRIPTION:
URL:https://www.bcnprevencionintegral.com/event/2o-sesion-tpc-carpinteria-metalica-20h/2026-02-21/
LOCATION:BCN Prevención Integral – BARCELONA\, C/ Santander\, nº 42-48 - Nave 26-27\, Barcelona\, Barcelona\, 08020\, Spain
END:VEVENT
BEGIN:VEVENT
DTSTART;VALUE=DATE:20260223
DTEND;VALUE=DATE:20260224
DTSTAMP:20260426T012414
CREATED:20260216T094955Z
LAST-MODIFIED:20260305T080508Z
UID:10000014-1771808400-1771889400@www.bcnprevencionintegral.com
SUMMARY:CURSO DE CARRETILLA ELEVADORAS
DESCRIPTION:Curso de carretilla elevadora en Barcelona 100% presencial con normativa UNE. \nConsigue tu carnet de carretillero homologado con formación práctica\, seguridad laboral y certificación válida para empresas. \n 
URL:https://www.bcnprevencionintegral.com/event/curso-de-carretilla-elevadoras/2026-02-23/
LOCATION:BCN Prevención Integral – BARCELONA\, C/ Santander\, nº 42-48 - Nave 26-27\, Barcelona\, Barcelona\, 08020\, Spain
ORGANIZER;CN="bcn Prevencion integral":MAILTO:prevencionintegral.com
END:VEVENT
BEGIN:VEVENT
DTSTART;VALUE=DATE:20260223
DTEND;VALUE=DATE:20260224
DTSTAMP:20260426T012414
CREATED:20260216T095810Z
LAST-MODIFIED:20260216T095810Z
UID:10000026-1771808400-1771889400@www.bcnprevencionintegral.com
SUMMARY:Plataformas Elevadoras Pemp
DESCRIPTION:
URL:https://www.bcnprevencionintegral.com/event/plataformas-elevadoras-pemp/2026-02-23/
LOCATION:BCN Prevención Integral – BARCELONA\, C/ Santander\, nº 42-48 - Nave 26-27\, Barcelona\, Barcelona\, 08020\, Spain
END:VEVENT
BEGIN:VEVENT
DTSTART;VALUE=DATE:20260223
DTEND;VALUE=DATE:20260224
DTSTAMP:20260426T012414
CREATED:20260216T100254Z
LAST-MODIFIED:20260216T100254Z
UID:10000038-1771808400-1771889400@www.bcnprevencionintegral.com
SUMMARY:Recogepedidos
DESCRIPTION:
URL:https://www.bcnprevencionintegral.com/event/recogepedidos/2026-02-23/
LOCATION:BCN Prevención Integral – BARCELONA\, C/ Santander\, nº 42-48 - Nave 26-27\, Barcelona\, Barcelona\, 08020\, Spain
END:VEVENT
BEGIN:VEVENT
DTSTART;VALUE=DATE:20260225
DTEND;VALUE=DATE:20260226
DTSTAMP:20260426T012414
CREATED:20260216T094955Z
LAST-MODIFIED:20260305T080508Z
UID:10000015-1771981200-1772062200@www.bcnprevencionintegral.com
SUMMARY:CURSO DE CARRETILLA ELEVADORAS
DESCRIPTION:Curso de carretilla elevadora en Barcelona 100% presencial con normativa UNE. \nConsigue tu carnet de carretillero homologado con formación práctica\, seguridad laboral y certificación válida para empresas. \n 
URL:https://www.bcnprevencionintegral.com/event/curso-de-carretilla-elevadoras/2026-02-25/
LOCATION:BCN Prevención Integral – BARCELONA\, C/ Santander\, nº 42-48 - Nave 26-27\, Barcelona\, Barcelona\, 08020\, Spain
ORGANIZER;CN="bcn Prevencion integral":MAILTO:prevencionintegral.com
END:VEVENT
BEGIN:VEVENT
DTSTART;VALUE=DATE:20260225
DTEND;VALUE=DATE:20260226
DTSTAMP:20260426T012414
CREATED:20260216T095810Z
LAST-MODIFIED:20260216T095810Z
UID:10000027-1771981200-1772062200@www.bcnprevencionintegral.com
SUMMARY:Plataformas Elevadoras Pemp
DESCRIPTION:
URL:https://www.bcnprevencionintegral.com/event/plataformas-elevadoras-pemp/2026-02-25/
LOCATION:BCN Prevención Integral – BARCELONA\, C/ Santander\, nº 42-48 - Nave 26-27\, Barcelona\, Barcelona\, 08020\, Spain
END:VEVENT
BEGIN:VEVENT
DTSTART;VALUE=DATE:20260225
DTEND;VALUE=DATE:20260226
DTSTAMP:20260426T012414
CREATED:20260216T100254Z
LAST-MODIFIED:20260216T100254Z
UID:10000039-1771981200-1772062200@www.bcnprevencionintegral.com
SUMMARY:Recogepedidos
DESCRIPTION:
URL:https://www.bcnprevencionintegral.com/event/recogepedidos/2026-02-25/
LOCATION:BCN Prevención Integral – BARCELONA\, C/ Santander\, nº 42-48 - Nave 26-27\, Barcelona\, Barcelona\, 08020\, Spain
END:VEVENT
BEGIN:VEVENT
DTSTART;VALUE=DATE:20260227
DTEND;VALUE=DATE:20260228
DTSTAMP:20260426T012414
CREATED:20260216T094955Z
LAST-MODIFIED:20260305T080508Z
UID:10000016-1772154000-1772235000@www.bcnprevencionintegral.com
SUMMARY:CURSO DE CARRETILLA ELEVADORAS
DESCRIPTION:Curso de carretilla elevadora en Barcelona 100% presencial con normativa UNE. \nConsigue tu carnet de carretillero homologado con formación práctica\, seguridad laboral y certificación válida para empresas. \n 
URL:https://www.bcnprevencionintegral.com/event/curso-de-carretilla-elevadoras/2026-02-27/
LOCATION:BCN Prevención Integral – BARCELONA\, C/ Santander\, nº 42-48 - Nave 26-27\, Barcelona\, Barcelona\, 08020\, Spain
ORGANIZER;CN="bcn Prevencion integral":MAILTO:prevencionintegral.com
END:VEVENT
BEGIN:VEVENT
DTSTART;VALUE=DATE:20260227
DTEND;VALUE=DATE:20260228
DTSTAMP:20260426T012414
CREATED:20260216T095810Z
LAST-MODIFIED:20260216T095810Z
UID:10000028-1772154000-1772235000@www.bcnprevencionintegral.com
SUMMARY:Plataformas Elevadoras Pemp
DESCRIPTION:
URL:https://www.bcnprevencionintegral.com/event/plataformas-elevadoras-pemp/2026-02-27/
LOCATION:BCN Prevención Integral – BARCELONA\, C/ Santander\, nº 42-48 - Nave 26-27\, Barcelona\, Barcelona\, 08020\, Spain
END:VEVENT
BEGIN:VEVENT
DTSTART;VALUE=DATE:20260227
DTEND;VALUE=DATE:20260228
DTSTAMP:20260426T012414
CREATED:20260216T100254Z
LAST-MODIFIED:20260216T100254Z
UID:10000040-1772154000-1772235000@www.bcnprevencionintegral.com
SUMMARY:Recogepedidos
DESCRIPTION:
URL:https://www.bcnprevencionintegral.com/event/recogepedidos/2026-02-27/
LOCATION:BCN Prevención Integral – BARCELONA\, C/ Santander\, nº 42-48 - Nave 26-27\, Barcelona\, Barcelona\, 08020\, Spain
END:VEVENT
BEGIN:VEVENT
DTSTART;VALUE=DATE:20260228
DTEND;VALUE=DATE:20260301
DTSTAMP:20260426T012414
CREATED:20260216T094955Z
LAST-MODIFIED:20260305T080508Z
UID:10000017-1772240400-1772321400@www.bcnprevencionintegral.com
SUMMARY:CURSO DE CARRETILLA ELEVADORAS
DESCRIPTION:Curso de carretilla elevadora en Barcelona 100% presencial con normativa UNE. \nConsigue tu carnet de carretillero homologado con formación práctica\, seguridad laboral y certificación válida para empresas. \n 
URL:https://www.bcnprevencionintegral.com/event/curso-de-carretilla-elevadoras/2026-02-28/
LOCATION:BCN Prevención Integral – BARCELONA\, C/ Santander\, nº 42-48 - Nave 26-27\, Barcelona\, Barcelona\, 08020\, Spain
ORGANIZER;CN="bcn Prevencion integral":MAILTO:prevencionintegral.com
END:VEVENT
BEGIN:VEVENT
DTSTART;VALUE=DATE:20260228
DTEND;VALUE=DATE:20260301
DTSTAMP:20260426T012414
CREATED:20260216T095810Z
LAST-MODIFIED:20260216T095810Z
UID:10000029-1772240400-1772321400@www.bcnprevencionintegral.com
SUMMARY:Plataformas Elevadoras Pemp
DESCRIPTION:
URL:https://www.bcnprevencionintegral.com/event/plataformas-elevadoras-pemp/2026-02-28/
LOCATION:BCN Prevención Integral – BARCELONA\, C/ Santander\, nº 42-48 - Nave 26-27\, Barcelona\, Barcelona\, 08020\, Spain
END:VEVENT
BEGIN:VEVENT
DTSTART;VALUE=DATE:20260228
DTEND;VALUE=DATE:20260301
DTSTAMP:20260426T012414
CREATED:20260216T100254Z
LAST-MODIFIED:20260216T100254Z
UID:10000041-1772240400-1772321400@www.bcnprevencionintegral.com
SUMMARY:Recogepedidos
DESCRIPTION:
URL:https://www.bcnprevencionintegral.com/event/recogepedidos/2026-02-28/
LOCATION:BCN Prevención Integral – BARCELONA\, C/ Santander\, nº 42-48 - Nave 26-27\, Barcelona\, Barcelona\, 08020\, Spain
END:VEVENT
END:VCALENDAR