BEGIN:VCALENDAR
VERSION:2.0
PRODID:-//Bcn Prevención Integral - ECPv6.15.20//NONSGML v1.0//EN
CALSCALE:GREGORIAN
METHOD:PUBLISH
X-ORIGINAL-URL:https://www.bcnprevencionintegral.com
X-WR-CALDESC:Eventos para Bcn Prevención Integral
REFRESH-INTERVAL;VALUE=DURATION:PT1H
X-Robots-Tag:noindex
X-PUBLISHED-TTL:PT1H
BEGIN:VTIMEZONE
TZID:Europe/Madrid
BEGIN:DAYLIGHT
TZOFFSETFROM:+0100
TZOFFSETTO:+0200
TZNAME:CEST
DTSTART:20250330T010000
END:DAYLIGHT
BEGIN:STANDARD
TZOFFSETFROM:+0200
TZOFFSETTO:+0100
TZNAME:CET
DTSTART:20251026T010000
END:STANDARD
BEGIN:DAYLIGHT
TZOFFSETFROM:+0100
TZOFFSETTO:+0200
TZNAME:CEST
DTSTART:20260329T010000
END:DAYLIGHT
BEGIN:STANDARD
TZOFFSETFROM:+0200
TZOFFSETTO:+0100
TZNAME:CET
DTSTART:20261025T010000
END:STANDARD
BEGIN:DAYLIGHT
TZOFFSETFROM:+0100
TZOFFSETTO:+0200
TZNAME:CEST
DTSTART:20270328T010000
END:DAYLIGHT
BEGIN:STANDARD
TZOFFSETFROM:+0200
TZOFFSETTO:+0100
TZNAME:CET
DTSTART:20271031T010000
END:STANDARD
END:VTIMEZONE
BEGIN:VEVENT
DTSTART;VALUE=DATE:20260330
DTEND;VALUE=DATE:20260331
DTSTAMP:20260426T030042
CREATED:20260305T082749Z
LAST-MODIFIED:20260305T082749Z
UID:10000116-1774832400-1774913400@www.bcnprevencionintegral.com
SUMMARY:Recogepedidos
DESCRIPTION:
URL:https://www.bcnprevencionintegral.com/event/recogepedidos-2/2026-03-30/
LOCATION:BCN Prevención Integral – BARCELONA\, C/ Santander\, nº 42-48 - Nave 26-27\, Barcelona\, Barcelona\, 08020\, Spain
END:VEVENT
BEGIN:VEVENT
DTSTART;VALUE=DATE:20260330
DTEND;VALUE=DATE:20260331
DTSTAMP:20260426T030042
CREATED:20260305T081517Z
LAST-MODIFIED:20260305T081905Z
UID:10000101-1774832400-1774913400@www.bcnprevencionintegral.com
SUMMARY:Plataformas Elevadoras Pemp
DESCRIPTION:
URL:https://www.bcnprevencionintegral.com/event/plataformas-elevadoras-pemp-2/2026-03-30/
LOCATION:BCN Prevención Integral – BARCELONA\, C/ Santander\, nº 42-48 - Nave 26-27\, Barcelona\, Barcelona\, 08020\, Spain
END:VEVENT
BEGIN:VEVENT
DTSTART;VALUE=DATE:20260330
DTEND;VALUE=DATE:20260331
DTSTAMP:20260426T030042
CREATED:20260305T080156Z
LAST-MODIFIED:20260305T080156Z
UID:10000075-1774832400-1774913400@www.bcnprevencionintegral.com
SUMMARY:CURSO DE CARRETILLA ELEVADORAS
DESCRIPTION:Curso de carretilla elevadora en Barcelona 100% presencial con normativa UNE. \nConsigue tu carnet de carretillero homologado con formación práctica\, seguridad laboral y certificación válida para empresas. \n 
URL:https://www.bcnprevencionintegral.com/event/curso-de-carretilla-elevadoras-2/2026-03-30/
LOCATION:BCN Prevención Integral – BARCELONA\, C/ Santander\, nº 42-48 - Nave 26-27\, Barcelona\, Barcelona\, 08020\, Spain
ORGANIZER;CN="bcn Prevencion integral":MAILTO:prevencionintegral.com
END:VEVENT
BEGIN:VEVENT
DTSTART;VALUE=DATE:20260328
DTEND;VALUE=DATE:20260329
DTSTAMP:20260426T030042
CREATED:20260305T082749Z
LAST-MODIFIED:20260305T082749Z
UID:10000115-1774659600-1774740600@www.bcnprevencionintegral.com
SUMMARY:Recogepedidos
DESCRIPTION:
URL:https://www.bcnprevencionintegral.com/event/recogepedidos-2/2026-03-28/
LOCATION:BCN Prevención Integral – BARCELONA\, C/ Santander\, nº 42-48 - Nave 26-27\, Barcelona\, Barcelona\, 08020\, Spain
END:VEVENT
BEGIN:VEVENT
DTSTART;VALUE=DATE:20260328
DTEND;VALUE=DATE:20260329
DTSTAMP:20260426T030042
CREATED:20260305T081517Z
LAST-MODIFIED:20260305T081905Z
UID:10000100-1774659600-1774740600@www.bcnprevencionintegral.com
SUMMARY:Plataformas Elevadoras Pemp
DESCRIPTION:
URL:https://www.bcnprevencionintegral.com/event/plataformas-elevadoras-pemp-2/2026-03-28/
LOCATION:BCN Prevención Integral – BARCELONA\, C/ Santander\, nº 42-48 - Nave 26-27\, Barcelona\, Barcelona\, 08020\, Spain
END:VEVENT
BEGIN:VEVENT
DTSTART;VALUE=DATE:20260328
DTEND;VALUE=DATE:20260329
DTSTAMP:20260426T030042
CREATED:20260305T080156Z
LAST-MODIFIED:20260305T080156Z
UID:10000074-1774659600-1774740600@www.bcnprevencionintegral.com
SUMMARY:CURSO DE CARRETILLA ELEVADORAS
DESCRIPTION:Curso de carretilla elevadora en Barcelona 100% presencial con normativa UNE. \nConsigue tu carnet de carretillero homologado con formación práctica\, seguridad laboral y certificación válida para empresas. \n 
URL:https://www.bcnprevencionintegral.com/event/curso-de-carretilla-elevadoras-2/2026-03-28/
LOCATION:BCN Prevención Integral – BARCELONA\, C/ Santander\, nº 42-48 - Nave 26-27\, Barcelona\, Barcelona\, 08020\, Spain
ORGANIZER;CN="bcn Prevencion integral":MAILTO:prevencionintegral.com
END:VEVENT
BEGIN:VEVENT
DTSTART;VALUE=DATE:20260327
DTEND;VALUE=DATE:20260328
DTSTAMP:20260426T030042
CREATED:20260305T082749Z
LAST-MODIFIED:20260305T082749Z
UID:10000114-1774573200-1774654200@www.bcnprevencionintegral.com
SUMMARY:Recogepedidos
DESCRIPTION:
URL:https://www.bcnprevencionintegral.com/event/recogepedidos-2/2026-03-27/
LOCATION:BCN Prevención Integral – BARCELONA\, C/ Santander\, nº 42-48 - Nave 26-27\, Barcelona\, Barcelona\, 08020\, Spain
END:VEVENT
BEGIN:VEVENT
DTSTART;VALUE=DATE:20260327
DTEND;VALUE=DATE:20260328
DTSTAMP:20260426T030042
CREATED:20260305T081517Z
LAST-MODIFIED:20260305T081905Z
UID:10000099-1774573200-1774654200@www.bcnprevencionintegral.com
SUMMARY:Plataformas Elevadoras Pemp
DESCRIPTION:
URL:https://www.bcnprevencionintegral.com/event/plataformas-elevadoras-pemp-2/2026-03-27/
LOCATION:BCN Prevención Integral – BARCELONA\, C/ Santander\, nº 42-48 - Nave 26-27\, Barcelona\, Barcelona\, 08020\, Spain
END:VEVENT
BEGIN:VEVENT
DTSTART;VALUE=DATE:20260327
DTEND;VALUE=DATE:20260328
DTSTAMP:20260426T030042
CREATED:20260305T080156Z
LAST-MODIFIED:20260305T080156Z
UID:10000073-1774573200-1774654200@www.bcnprevencionintegral.com
SUMMARY:CURSO DE CARRETILLA ELEVADORAS
DESCRIPTION:Curso de carretilla elevadora en Barcelona 100% presencial con normativa UNE. \nConsigue tu carnet de carretillero homologado con formación práctica\, seguridad laboral y certificación válida para empresas. \n 
URL:https://www.bcnprevencionintegral.com/event/curso-de-carretilla-elevadoras-2/2026-03-27/
LOCATION:BCN Prevención Integral – BARCELONA\, C/ Santander\, nº 42-48 - Nave 26-27\, Barcelona\, Barcelona\, 08020\, Spain
ORGANIZER;CN="bcn Prevencion integral":MAILTO:prevencionintegral.com
END:VEVENT
BEGIN:VEVENT
DTSTART;VALUE=DATE:20260327
DTEND;VALUE=DATE:20260328
DTSTAMP:20260426T030042
CREATED:20260305T083806Z
LAST-MODIFIED:20260305T083806Z
UID:10000123-1774569600-1774655999@www.bcnprevencionintegral.com
SUMMARY:TPC 6 HORAS ELECTRICIDAD
DESCRIPTION:
URL:https://www.bcnprevencionintegral.com/event/tpc-6-horas-electricidad/
LOCATION:BCN Prevención Integral – BARCELONA\, C/ Santander\, nº 42-48 - Nave 26-27\, Barcelona\, Barcelona\, 08020\, Spain
END:VEVENT
BEGIN:VEVENT
DTSTART;VALUE=DATE:20260326
DTEND;VALUE=DATE:20260327
DTSTAMP:20260426T030042
CREATED:20260305T083718Z
LAST-MODIFIED:20260305T083718Z
UID:10000122-1774483200-1774569599@www.bcnprevencionintegral.com
SUMMARY:TPC NIVEL BASICO 3º SESION
DESCRIPTION:
URL:https://www.bcnprevencionintegral.com/event/tpc-nivel-basico-3o-sesion/
LOCATION:BCN Prevención Integral – BARCELONA\, C/ Santander\, nº 42-48 - Nave 26-27\, Barcelona\, Barcelona\, 08020\, Spain
END:VEVENT
BEGIN:VEVENT
DTSTART;VALUE=DATE:20260325
DTEND;VALUE=DATE:20260326
DTSTAMP:20260426T030042
CREATED:20260305T082749Z
LAST-MODIFIED:20260305T082749Z
UID:10000113-1774400400-1774481400@www.bcnprevencionintegral.com
SUMMARY:Recogepedidos
DESCRIPTION:
URL:https://www.bcnprevencionintegral.com/event/recogepedidos-2/2026-03-25/
LOCATION:BCN Prevención Integral – BARCELONA\, C/ Santander\, nº 42-48 - Nave 26-27\, Barcelona\, Barcelona\, 08020\, Spain
END:VEVENT
BEGIN:VEVENT
DTSTART;VALUE=DATE:20260325
DTEND;VALUE=DATE:20260326
DTSTAMP:20260426T030042
CREATED:20260305T081517Z
LAST-MODIFIED:20260305T081905Z
UID:10000098-1774400400-1774481400@www.bcnprevencionintegral.com
SUMMARY:Plataformas Elevadoras Pemp
DESCRIPTION:
URL:https://www.bcnprevencionintegral.com/event/plataformas-elevadoras-pemp-2/2026-03-25/
LOCATION:BCN Prevención Integral – BARCELONA\, C/ Santander\, nº 42-48 - Nave 26-27\, Barcelona\, Barcelona\, 08020\, Spain
END:VEVENT
BEGIN:VEVENT
DTSTART;VALUE=DATE:20260325
DTEND;VALUE=DATE:20260326
DTSTAMP:20260426T030042
CREATED:20260305T080156Z
LAST-MODIFIED:20260305T080156Z
UID:10000072-1774400400-1774481400@www.bcnprevencionintegral.com
SUMMARY:CURSO DE CARRETILLA ELEVADORAS
DESCRIPTION:Curso de carretilla elevadora en Barcelona 100% presencial con normativa UNE. \nConsigue tu carnet de carretillero homologado con formación práctica\, seguridad laboral y certificación válida para empresas. \n 
URL:https://www.bcnprevencionintegral.com/event/curso-de-carretilla-elevadoras-2/2026-03-25/
LOCATION:BCN Prevención Integral – BARCELONA\, C/ Santander\, nº 42-48 - Nave 26-27\, Barcelona\, Barcelona\, 08020\, Spain
ORGANIZER;CN="bcn Prevencion integral":MAILTO:prevencionintegral.com
END:VEVENT
BEGIN:VEVENT
DTSTART;VALUE=DATE:20260324
DTEND;VALUE=DATE:20260325
DTSTAMP:20260426T030042
CREATED:20260305T083642Z
LAST-MODIFIED:20260305T083642Z
UID:10000121-1774310400-1774396799@www.bcnprevencionintegral.com
SUMMARY:TPC NIVEL BASICO 2º SESION
DESCRIPTION:
URL:https://www.bcnprevencionintegral.com/event/tpc-nivel-basico-2o-sesion/
LOCATION:BCN Prevención Integral – BARCELONA\, C/ Santander\, nº 42-48 - Nave 26-27\, Barcelona\, Barcelona\, 08020\, Spain
END:VEVENT
BEGIN:VEVENT
DTSTART;VALUE=DATE:20260323
DTEND;VALUE=DATE:20260324
DTSTAMP:20260426T030042
CREATED:20260305T082749Z
LAST-MODIFIED:20260305T082749Z
UID:10000112-1774227600-1774308600@www.bcnprevencionintegral.com
SUMMARY:Recogepedidos
DESCRIPTION:
URL:https://www.bcnprevencionintegral.com/event/recogepedidos-2/2026-03-23/
LOCATION:BCN Prevención Integral – BARCELONA\, C/ Santander\, nº 42-48 - Nave 26-27\, Barcelona\, Barcelona\, 08020\, Spain
END:VEVENT
BEGIN:VEVENT
DTSTART;VALUE=DATE:20260323
DTEND;VALUE=DATE:20260324
DTSTAMP:20260426T030042
CREATED:20260305T081517Z
LAST-MODIFIED:20260305T081905Z
UID:10000097-1774227600-1774308600@www.bcnprevencionintegral.com
SUMMARY:Plataformas Elevadoras Pemp
DESCRIPTION:
URL:https://www.bcnprevencionintegral.com/event/plataformas-elevadoras-pemp-2/2026-03-23/
LOCATION:BCN Prevención Integral – BARCELONA\, C/ Santander\, nº 42-48 - Nave 26-27\, Barcelona\, Barcelona\, 08020\, Spain
END:VEVENT
BEGIN:VEVENT
DTSTART;VALUE=DATE:20260323
DTEND;VALUE=DATE:20260324
DTSTAMP:20260426T030042
CREATED:20260305T080156Z
LAST-MODIFIED:20260305T080156Z
UID:10000071-1774227600-1774308600@www.bcnprevencionintegral.com
SUMMARY:CURSO DE CARRETILLA ELEVADORAS
DESCRIPTION:Curso de carretilla elevadora en Barcelona 100% presencial con normativa UNE. \nConsigue tu carnet de carretillero homologado con formación práctica\, seguridad laboral y certificación válida para empresas. \n 
URL:https://www.bcnprevencionintegral.com/event/curso-de-carretilla-elevadoras-2/2026-03-23/
LOCATION:BCN Prevención Integral – BARCELONA\, C/ Santander\, nº 42-48 - Nave 26-27\, Barcelona\, Barcelona\, 08020\, Spain
ORGANIZER;CN="bcn Prevencion integral":MAILTO:prevencionintegral.com
END:VEVENT
BEGIN:VEVENT
DTSTART;VALUE=DATE:20260323
DTEND;VALUE=DATE:20260324
DTSTAMP:20260426T030042
CREATED:20260305T083600Z
LAST-MODIFIED:20260305T083600Z
UID:10000120-1774224000-1774310399@www.bcnprevencionintegral.com
SUMMARY:TPC NIVEL BASICO 1º SESION
DESCRIPTION:
URL:https://www.bcnprevencionintegral.com/event/tpc-nivel-basico-1o-sesion/
LOCATION:BCN Prevención Integral – BARCELONA\, C/ Santander\, nº 42-48 - Nave 26-27\, Barcelona\, Barcelona\, 08020\, Spain
END:VEVENT
BEGIN:VEVENT
DTSTART;VALUE=DATE:20260321
DTEND;VALUE=DATE:20260322
DTSTAMP:20260426T030042
CREATED:20260305T082749Z
LAST-MODIFIED:20260305T082749Z
UID:10000111-1774054800-1774135800@www.bcnprevencionintegral.com
SUMMARY:Recogepedidos
DESCRIPTION:
URL:https://www.bcnprevencionintegral.com/event/recogepedidos-2/2026-03-21/
LOCATION:BCN Prevención Integral – BARCELONA\, C/ Santander\, nº 42-48 - Nave 26-27\, Barcelona\, Barcelona\, 08020\, Spain
END:VEVENT
BEGIN:VEVENT
DTSTART;VALUE=DATE:20260321
DTEND;VALUE=DATE:20260322
DTSTAMP:20260426T030042
CREATED:20260305T081517Z
LAST-MODIFIED:20260305T081905Z
UID:10000096-1774054800-1774135800@www.bcnprevencionintegral.com
SUMMARY:Plataformas Elevadoras Pemp
DESCRIPTION:
URL:https://www.bcnprevencionintegral.com/event/plataformas-elevadoras-pemp-2/2026-03-21/
LOCATION:BCN Prevención Integral – BARCELONA\, C/ Santander\, nº 42-48 - Nave 26-27\, Barcelona\, Barcelona\, 08020\, Spain
END:VEVENT
BEGIN:VEVENT
DTSTART;VALUE=DATE:20260321
DTEND;VALUE=DATE:20260322
DTSTAMP:20260426T030042
CREATED:20260305T080156Z
LAST-MODIFIED:20260305T080156Z
UID:10000070-1774054800-1774135800@www.bcnprevencionintegral.com
SUMMARY:CURSO DE CARRETILLA ELEVADORAS
DESCRIPTION:Curso de carretilla elevadora en Barcelona 100% presencial con normativa UNE. \nConsigue tu carnet de carretillero homologado con formación práctica\, seguridad laboral y certificación válida para empresas. \n 
URL:https://www.bcnprevencionintegral.com/event/curso-de-carretilla-elevadoras-2/2026-03-21/
LOCATION:BCN Prevención Integral – BARCELONA\, C/ Santander\, nº 42-48 - Nave 26-27\, Barcelona\, Barcelona\, 08020\, Spain
ORGANIZER;CN="bcn Prevencion integral":MAILTO:prevencionintegral.com
END:VEVENT
BEGIN:VEVENT
DTSTART;VALUE=DATE:20260321
DTEND;VALUE=DATE:20260322
DTSTAMP:20260426T030042
CREATED:20260305T083427Z
LAST-MODIFIED:20260305T083427Z
UID:10000119-1774051200-1774137599@www.bcnprevencionintegral.com
SUMMARY:PUENTE GRÚA BARCELONA
DESCRIPTION:
URL:https://www.bcnprevencionintegral.com/event/puente-grua-barcelona-2/
LOCATION:BCN Prevención Integral – BARCELONA\, C/ Santander\, nº 42-48 - Nave 26-27\, Barcelona\, Barcelona\, 08020\, Spain
END:VEVENT
BEGIN:VEVENT
DTSTART;VALUE=DATE:20260320
DTEND;VALUE=DATE:20260321
DTSTAMP:20260426T030042
CREATED:20260305T082749Z
LAST-MODIFIED:20260305T082749Z
UID:10000110-1773968400-1774049400@www.bcnprevencionintegral.com
SUMMARY:Recogepedidos
DESCRIPTION:
URL:https://www.bcnprevencionintegral.com/event/recogepedidos-2/2026-03-20/
LOCATION:BCN Prevención Integral – BARCELONA\, C/ Santander\, nº 42-48 - Nave 26-27\, Barcelona\, Barcelona\, 08020\, Spain
END:VEVENT
BEGIN:VEVENT
DTSTART;VALUE=DATE:20260320
DTEND;VALUE=DATE:20260321
DTSTAMP:20260426T030042
CREATED:20260305T081517Z
LAST-MODIFIED:20260305T081905Z
UID:10000095-1773968400-1774049400@www.bcnprevencionintegral.com
SUMMARY:Plataformas Elevadoras Pemp
DESCRIPTION:
URL:https://www.bcnprevencionintegral.com/event/plataformas-elevadoras-pemp-2/2026-03-20/
LOCATION:BCN Prevención Integral – BARCELONA\, C/ Santander\, nº 42-48 - Nave 26-27\, Barcelona\, Barcelona\, 08020\, Spain
END:VEVENT
BEGIN:VEVENT
DTSTART;VALUE=DATE:20260320
DTEND;VALUE=DATE:20260321
DTSTAMP:20260426T030042
CREATED:20260305T080156Z
LAST-MODIFIED:20260305T080156Z
UID:10000069-1773968400-1774049400@www.bcnprevencionintegral.com
SUMMARY:CURSO DE CARRETILLA ELEVADORAS
DESCRIPTION:Curso de carretilla elevadora en Barcelona 100% presencial con normativa UNE. \nConsigue tu carnet de carretillero homologado con formación práctica\, seguridad laboral y certificación válida para empresas. \n 
URL:https://www.bcnprevencionintegral.com/event/curso-de-carretilla-elevadoras-2/2026-03-20/
LOCATION:BCN Prevención Integral – BARCELONA\, C/ Santander\, nº 42-48 - Nave 26-27\, Barcelona\, Barcelona\, 08020\, Spain
ORGANIZER;CN="bcn Prevencion integral":MAILTO:prevencionintegral.com
END:VEVENT
BEGIN:VEVENT
DTSTART;VALUE=DATE:20260318
DTEND;VALUE=DATE:20260319
DTSTAMP:20260426T030042
CREATED:20260305T082749Z
LAST-MODIFIED:20260305T082749Z
UID:10000109-1773795600-1773876600@www.bcnprevencionintegral.com
SUMMARY:Recogepedidos
DESCRIPTION:
URL:https://www.bcnprevencionintegral.com/event/recogepedidos-2/2026-03-18/
LOCATION:BCN Prevención Integral – BARCELONA\, C/ Santander\, nº 42-48 - Nave 26-27\, Barcelona\, Barcelona\, 08020\, Spain
END:VEVENT
BEGIN:VEVENT
DTSTART;VALUE=DATE:20260318
DTEND;VALUE=DATE:20260319
DTSTAMP:20260426T030042
CREATED:20260305T081517Z
LAST-MODIFIED:20260305T081905Z
UID:10000094-1773795600-1773876600@www.bcnprevencionintegral.com
SUMMARY:Plataformas Elevadoras Pemp
DESCRIPTION:
URL:https://www.bcnprevencionintegral.com/event/plataformas-elevadoras-pemp-2/2026-03-18/
LOCATION:BCN Prevención Integral – BARCELONA\, C/ Santander\, nº 42-48 - Nave 26-27\, Barcelona\, Barcelona\, 08020\, Spain
END:VEVENT
BEGIN:VEVENT
DTSTART;VALUE=DATE:20260318
DTEND;VALUE=DATE:20260319
DTSTAMP:20260426T030042
CREATED:20260305T080156Z
LAST-MODIFIED:20260305T080156Z
UID:10000068-1773795600-1773876600@www.bcnprevencionintegral.com
SUMMARY:CURSO DE CARRETILLA ELEVADORAS
DESCRIPTION:Curso de carretilla elevadora en Barcelona 100% presencial con normativa UNE. \nConsigue tu carnet de carretillero homologado con formación práctica\, seguridad laboral y certificación válida para empresas. \n 
URL:https://www.bcnprevencionintegral.com/event/curso-de-carretilla-elevadoras-2/2026-03-18/
LOCATION:BCN Prevención Integral – BARCELONA\, C/ Santander\, nº 42-48 - Nave 26-27\, Barcelona\, Barcelona\, 08020\, Spain
ORGANIZER;CN="bcn Prevencion integral":MAILTO:prevencionintegral.com
END:VEVENT
BEGIN:VEVENT
DTSTART;VALUE=DATE:20260316
DTEND;VALUE=DATE:20260317
DTSTAMP:20260426T030042
CREATED:20260305T082749Z
LAST-MODIFIED:20260305T082749Z
UID:10000108-1773622800-1773703800@www.bcnprevencionintegral.com
SUMMARY:Recogepedidos
DESCRIPTION:
URL:https://www.bcnprevencionintegral.com/event/recogepedidos-2/2026-03-16/
LOCATION:BCN Prevención Integral – BARCELONA\, C/ Santander\, nº 42-48 - Nave 26-27\, Barcelona\, Barcelona\, 08020\, Spain
END:VEVENT
END:VCALENDAR