BEGIN:VCALENDAR
VERSION:2.0
PRODID:-//Bcn Prevención Integral - ECPv6.15.20//NONSGML v1.0//EN
CALSCALE:GREGORIAN
METHOD:PUBLISH
X-ORIGINAL-URL:https://www.bcnprevencionintegral.com
X-WR-CALDESC:Eventos para Bcn Prevención Integral
REFRESH-INTERVAL;VALUE=DURATION:PT1H
X-Robots-Tag:noindex
X-PUBLISHED-TTL:PT1H
BEGIN:VTIMEZONE
TZID:Europe/Madrid
BEGIN:DAYLIGHT
TZOFFSETFROM:+0100
TZOFFSETTO:+0200
TZNAME:CEST
DTSTART:20250330T010000
END:DAYLIGHT
BEGIN:STANDARD
TZOFFSETFROM:+0200
TZOFFSETTO:+0100
TZNAME:CET
DTSTART:20251026T010000
END:STANDARD
BEGIN:DAYLIGHT
TZOFFSETFROM:+0100
TZOFFSETTO:+0200
TZNAME:CEST
DTSTART:20260329T010000
END:DAYLIGHT
BEGIN:STANDARD
TZOFFSETFROM:+0200
TZOFFSETTO:+0100
TZNAME:CET
DTSTART:20261025T010000
END:STANDARD
BEGIN:DAYLIGHT
TZOFFSETFROM:+0100
TZOFFSETTO:+0200
TZNAME:CEST
DTSTART:20270328T010000
END:DAYLIGHT
BEGIN:STANDARD
TZOFFSETFROM:+0200
TZOFFSETTO:+0100
TZNAME:CET
DTSTART:20271031T010000
END:STANDARD
END:VTIMEZONE
BEGIN:VEVENT
DTSTART;VALUE=DATE:20260320
DTEND;VALUE=DATE:20260321
DTSTAMP:20260426T061605
CREATED:20260305T081517Z
LAST-MODIFIED:20260305T081905Z
UID:10000095-1773968400-1774049400@www.bcnprevencionintegral.com
SUMMARY:Plataformas Elevadoras Pemp
DESCRIPTION:
URL:https://www.bcnprevencionintegral.com/event/plataformas-elevadoras-pemp-2/2026-03-20/
LOCATION:BCN Prevención Integral – BARCELONA\, C/ Santander\, nº 42-48 - Nave 26-27\, Barcelona\, Barcelona\, 08020\, Spain
END:VEVENT
BEGIN:VEVENT
DTSTART;VALUE=DATE:20260320
DTEND;VALUE=DATE:20260321
DTSTAMP:20260426T061605
CREATED:20260305T080156Z
LAST-MODIFIED:20260305T080156Z
UID:10000069-1773968400-1774049400@www.bcnprevencionintegral.com
SUMMARY:CURSO DE CARRETILLA ELEVADORAS
DESCRIPTION:Curso de carretilla elevadora en Barcelona 100% presencial con normativa UNE. \nConsigue tu carnet de carretillero homologado con formación práctica\, seguridad laboral y certificación válida para empresas. \n 
URL:https://www.bcnprevencionintegral.com/event/curso-de-carretilla-elevadoras-2/2026-03-20/
LOCATION:BCN Prevención Integral – BARCELONA\, C/ Santander\, nº 42-48 - Nave 26-27\, Barcelona\, Barcelona\, 08020\, Spain
ORGANIZER;CN="bcn Prevencion integral":MAILTO:prevencionintegral.com
END:VEVENT
BEGIN:VEVENT
DTSTART;VALUE=DATE:20260318
DTEND;VALUE=DATE:20260319
DTSTAMP:20260426T061605
CREATED:20260305T082749Z
LAST-MODIFIED:20260305T082749Z
UID:10000109-1773795600-1773876600@www.bcnprevencionintegral.com
SUMMARY:Recogepedidos
DESCRIPTION:
URL:https://www.bcnprevencionintegral.com/event/recogepedidos-2/2026-03-18/
LOCATION:BCN Prevención Integral – BARCELONA\, C/ Santander\, nº 42-48 - Nave 26-27\, Barcelona\, Barcelona\, 08020\, Spain
END:VEVENT
BEGIN:VEVENT
DTSTART;VALUE=DATE:20260318
DTEND;VALUE=DATE:20260319
DTSTAMP:20260426T061605
CREATED:20260305T081517Z
LAST-MODIFIED:20260305T081905Z
UID:10000094-1773795600-1773876600@www.bcnprevencionintegral.com
SUMMARY:Plataformas Elevadoras Pemp
DESCRIPTION:
URL:https://www.bcnprevencionintegral.com/event/plataformas-elevadoras-pemp-2/2026-03-18/
LOCATION:BCN Prevención Integral – BARCELONA\, C/ Santander\, nº 42-48 - Nave 26-27\, Barcelona\, Barcelona\, 08020\, Spain
END:VEVENT
BEGIN:VEVENT
DTSTART;VALUE=DATE:20260318
DTEND;VALUE=DATE:20260319
DTSTAMP:20260426T061605
CREATED:20260305T080156Z
LAST-MODIFIED:20260305T080156Z
UID:10000068-1773795600-1773876600@www.bcnprevencionintegral.com
SUMMARY:CURSO DE CARRETILLA ELEVADORAS
DESCRIPTION:Curso de carretilla elevadora en Barcelona 100% presencial con normativa UNE. \nConsigue tu carnet de carretillero homologado con formación práctica\, seguridad laboral y certificación válida para empresas. \n 
URL:https://www.bcnprevencionintegral.com/event/curso-de-carretilla-elevadoras-2/2026-03-18/
LOCATION:BCN Prevención Integral – BARCELONA\, C/ Santander\, nº 42-48 - Nave 26-27\, Barcelona\, Barcelona\, 08020\, Spain
ORGANIZER;CN="bcn Prevencion integral":MAILTO:prevencionintegral.com
END:VEVENT
BEGIN:VEVENT
DTSTART;VALUE=DATE:20260316
DTEND;VALUE=DATE:20260317
DTSTAMP:20260426T061605
CREATED:20260305T082749Z
LAST-MODIFIED:20260305T082749Z
UID:10000108-1773622800-1773703800@www.bcnprevencionintegral.com
SUMMARY:Recogepedidos
DESCRIPTION:
URL:https://www.bcnprevencionintegral.com/event/recogepedidos-2/2026-03-16/
LOCATION:BCN Prevención Integral – BARCELONA\, C/ Santander\, nº 42-48 - Nave 26-27\, Barcelona\, Barcelona\, 08020\, Spain
END:VEVENT
BEGIN:VEVENT
DTSTART;VALUE=DATE:20260316
DTEND;VALUE=DATE:20260317
DTSTAMP:20260426T061605
CREATED:20260305T081517Z
LAST-MODIFIED:20260305T081905Z
UID:10000093-1773622800-1773703800@www.bcnprevencionintegral.com
SUMMARY:Plataformas Elevadoras Pemp
DESCRIPTION:
URL:https://www.bcnprevencionintegral.com/event/plataformas-elevadoras-pemp-2/2026-03-16/
LOCATION:BCN Prevención Integral – BARCELONA\, C/ Santander\, nº 42-48 - Nave 26-27\, Barcelona\, Barcelona\, 08020\, Spain
END:VEVENT
BEGIN:VEVENT
DTSTART;VALUE=DATE:20260316
DTEND;VALUE=DATE:20260317
DTSTAMP:20260426T061605
CREATED:20260305T080156Z
LAST-MODIFIED:20260305T080156Z
UID:10000067-1773622800-1773703800@www.bcnprevencionintegral.com
SUMMARY:CURSO DE CARRETILLA ELEVADORAS
DESCRIPTION:Curso de carretilla elevadora en Barcelona 100% presencial con normativa UNE. \nConsigue tu carnet de carretillero homologado con formación práctica\, seguridad laboral y certificación válida para empresas. \n 
URL:https://www.bcnprevencionintegral.com/event/curso-de-carretilla-elevadoras-2/2026-03-16/
LOCATION:BCN Prevención Integral – BARCELONA\, C/ Santander\, nº 42-48 - Nave 26-27\, Barcelona\, Barcelona\, 08020\, Spain
ORGANIZER;CN="bcn Prevencion integral":MAILTO:prevencionintegral.com
END:VEVENT
BEGIN:VEVENT
DTSTART;VALUE=DATE:20260314
DTEND;VALUE=DATE:20260315
DTSTAMP:20260426T061605
CREATED:20260305T082749Z
LAST-MODIFIED:20260305T082749Z
UID:10000107-1773450000-1773531000@www.bcnprevencionintegral.com
SUMMARY:Recogepedidos
DESCRIPTION:
URL:https://www.bcnprevencionintegral.com/event/recogepedidos-2/2026-03-14/
LOCATION:BCN Prevención Integral – BARCELONA\, C/ Santander\, nº 42-48 - Nave 26-27\, Barcelona\, Barcelona\, 08020\, Spain
END:VEVENT
BEGIN:VEVENT
DTSTART;VALUE=DATE:20260314
DTEND;VALUE=DATE:20260315
DTSTAMP:20260426T061605
CREATED:20260305T081517Z
LAST-MODIFIED:20260305T081905Z
UID:10000092-1773450000-1773531000@www.bcnprevencionintegral.com
SUMMARY:Plataformas Elevadoras Pemp
DESCRIPTION:
URL:https://www.bcnprevencionintegral.com/event/plataformas-elevadoras-pemp-2/2026-03-14/
LOCATION:BCN Prevención Integral – BARCELONA\, C/ Santander\, nº 42-48 - Nave 26-27\, Barcelona\, Barcelona\, 08020\, Spain
END:VEVENT
BEGIN:VEVENT
DTSTART;VALUE=DATE:20260314
DTEND;VALUE=DATE:20260315
DTSTAMP:20260426T061605
CREATED:20260305T080156Z
LAST-MODIFIED:20260305T080156Z
UID:10000066-1773450000-1773531000@www.bcnprevencionintegral.com
SUMMARY:CURSO DE CARRETILLA ELEVADORAS
DESCRIPTION:Curso de carretilla elevadora en Barcelona 100% presencial con normativa UNE. \nConsigue tu carnet de carretillero homologado con formación práctica\, seguridad laboral y certificación válida para empresas. \n 
URL:https://www.bcnprevencionintegral.com/event/curso-de-carretilla-elevadoras-2/2026-03-14/
LOCATION:BCN Prevención Integral – BARCELONA\, C/ Santander\, nº 42-48 - Nave 26-27\, Barcelona\, Barcelona\, 08020\, Spain
ORGANIZER;CN="bcn Prevencion integral":MAILTO:prevencionintegral.com
END:VEVENT
BEGIN:VEVENT
DTSTART;VALUE=DATE:20260313
DTEND;VALUE=DATE:20260314
DTSTAMP:20260426T061605
CREATED:20260305T082749Z
LAST-MODIFIED:20260305T082749Z
UID:10000106-1773363600-1773444600@www.bcnprevencionintegral.com
SUMMARY:Recogepedidos
DESCRIPTION:
URL:https://www.bcnprevencionintegral.com/event/recogepedidos-2/2026-03-13/
LOCATION:BCN Prevención Integral – BARCELONA\, C/ Santander\, nº 42-48 - Nave 26-27\, Barcelona\, Barcelona\, 08020\, Spain
END:VEVENT
BEGIN:VEVENT
DTSTART;VALUE=DATE:20260313
DTEND;VALUE=DATE:20260314
DTSTAMP:20260426T061605
CREATED:20260305T081517Z
LAST-MODIFIED:20260305T081905Z
UID:10000091-1773363600-1773444600@www.bcnprevencionintegral.com
SUMMARY:Plataformas Elevadoras Pemp
DESCRIPTION:
URL:https://www.bcnprevencionintegral.com/event/plataformas-elevadoras-pemp-2/2026-03-13/
LOCATION:BCN Prevención Integral – BARCELONA\, C/ Santander\, nº 42-48 - Nave 26-27\, Barcelona\, Barcelona\, 08020\, Spain
END:VEVENT
BEGIN:VEVENT
DTSTART;VALUE=DATE:20260313
DTEND;VALUE=DATE:20260314
DTSTAMP:20260426T061605
CREATED:20260305T080156Z
LAST-MODIFIED:20260305T080156Z
UID:10000065-1773363600-1773444600@www.bcnprevencionintegral.com
SUMMARY:CURSO DE CARRETILLA ELEVADORAS
DESCRIPTION:Curso de carretilla elevadora en Barcelona 100% presencial con normativa UNE. \nConsigue tu carnet de carretillero homologado con formación práctica\, seguridad laboral y certificación válida para empresas. \n 
URL:https://www.bcnprevencionintegral.com/event/curso-de-carretilla-elevadoras-2/2026-03-13/
LOCATION:BCN Prevención Integral – BARCELONA\, C/ Santander\, nº 42-48 - Nave 26-27\, Barcelona\, Barcelona\, 08020\, Spain
ORGANIZER;CN="bcn Prevencion integral":MAILTO:prevencionintegral.com
END:VEVENT
BEGIN:VEVENT
DTSTART;VALUE=DATE:20260313
DTEND;VALUE=DATE:20260314
DTSTAMP:20260426T061605
CREATED:20260305T083004Z
LAST-MODIFIED:20260305T083004Z
UID:10000118-1773360000-1773446399@www.bcnprevencionintegral.com
SUMMARY:TPC EQUIPOS MANUALES 3º SESION
DESCRIPTION:
URL:https://www.bcnprevencionintegral.com/event/tpc-equipos-manuales-3o-sesion/
LOCATION:BCN Prevención Integral – BARCELONA\, C/ Santander\, nº 42-48 - Nave 26-27\, Barcelona\, Barcelona\, 08020\, Spain
END:VEVENT
BEGIN:VEVENT
DTSTART;VALUE=DATE:20260312
DTEND;VALUE=DATE:20260313
DTSTAMP:20260426T061605
CREATED:20260305T082906Z
LAST-MODIFIED:20260305T082906Z
UID:10000117-1773273600-1773359999@www.bcnprevencionintegral.com
SUMMARY:TPC EQUIPOS MANUALES 2º SESION
DESCRIPTION:
URL:https://www.bcnprevencionintegral.com/event/tpc-equipos-manuales-2o-sesion/
LOCATION:BCN Prevención Integral – BARCELONA\, C/ Santander\, nº 42-48 - Nave 26-27\, Barcelona\, Barcelona\, 08020\, Spain
END:VEVENT
BEGIN:VEVENT
DTSTART;VALUE=DATE:20260311
DTEND;VALUE=DATE:20260312
DTSTAMP:20260426T061605
CREATED:20260305T082749Z
LAST-MODIFIED:20260305T082749Z
UID:10000105-1773190800-1773271800@www.bcnprevencionintegral.com
SUMMARY:Recogepedidos
DESCRIPTION:
URL:https://www.bcnprevencionintegral.com/event/recogepedidos-2/2026-03-11/
LOCATION:BCN Prevención Integral – BARCELONA\, C/ Santander\, nº 42-48 - Nave 26-27\, Barcelona\, Barcelona\, 08020\, Spain
END:VEVENT
BEGIN:VEVENT
DTSTART;VALUE=DATE:20260311
DTEND;VALUE=DATE:20260312
DTSTAMP:20260426T061605
CREATED:20260305T081517Z
LAST-MODIFIED:20260305T081905Z
UID:10000090-1773190800-1773271800@www.bcnprevencionintegral.com
SUMMARY:Plataformas Elevadoras Pemp
DESCRIPTION:
URL:https://www.bcnprevencionintegral.com/event/plataformas-elevadoras-pemp-2/2026-03-11/
LOCATION:BCN Prevención Integral – BARCELONA\, C/ Santander\, nº 42-48 - Nave 26-27\, Barcelona\, Barcelona\, 08020\, Spain
END:VEVENT
BEGIN:VEVENT
DTSTART;VALUE=DATE:20260311
DTEND;VALUE=DATE:20260312
DTSTAMP:20260426T061605
CREATED:20260305T080156Z
LAST-MODIFIED:20260305T080156Z
UID:10000064-1773190800-1773271800@www.bcnprevencionintegral.com
SUMMARY:CURSO DE CARRETILLA ELEVADORAS
DESCRIPTION:Curso de carretilla elevadora en Barcelona 100% presencial con normativa UNE. \nConsigue tu carnet de carretillero homologado con formación práctica\, seguridad laboral y certificación válida para empresas. \n 
URL:https://www.bcnprevencionintegral.com/event/curso-de-carretilla-elevadoras-2/2026-03-11/
LOCATION:BCN Prevención Integral – BARCELONA\, C/ Santander\, nº 42-48 - Nave 26-27\, Barcelona\, Barcelona\, 08020\, Spain
ORGANIZER;CN="bcn Prevencion integral":MAILTO:prevencionintegral.com
END:VEVENT
BEGIN:VEVENT
DTSTART;VALUE=DATE:20260309
DTEND;VALUE=DATE:20260310
DTSTAMP:20260426T061605
CREATED:20260305T080156Z
LAST-MODIFIED:20260305T080156Z
UID:10000063-1773018000-1773099000@www.bcnprevencionintegral.com
SUMMARY:CURSO DE CARRETILLA ELEVADORAS
DESCRIPTION:Curso de carretilla elevadora en Barcelona 100% presencial con normativa UNE. \nConsigue tu carnet de carretillero homologado con formación práctica\, seguridad laboral y certificación válida para empresas. \n 
URL:https://www.bcnprevencionintegral.com/event/curso-de-carretilla-elevadoras-2/2026-03-09/
LOCATION:BCN Prevención Integral – BARCELONA\, C/ Santander\, nº 42-48 - Nave 26-27\, Barcelona\, Barcelona\, 08020\, Spain
ORGANIZER;CN="bcn Prevencion integral":MAILTO:prevencionintegral.com
END:VEVENT
BEGIN:VEVENT
DTSTART;VALUE=DATE:20260309
DTEND;VALUE=DATE:20260310
DTSTAMP:20260426T061605
CREATED:20260305T082749Z
LAST-MODIFIED:20260305T082749Z
UID:10000104-1773014400-1773100799@www.bcnprevencionintegral.com
SUMMARY:Recogepedidos
DESCRIPTION:
URL:https://www.bcnprevencionintegral.com/event/recogepedidos-2/2026-03-09/
LOCATION:BCN Prevención Integral – BARCELONA\, C/ Santander\, nº 42-48 - Nave 26-27\, Barcelona\, Barcelona\, 08020\, Spain
END:VEVENT
BEGIN:VEVENT
DTSTART;VALUE=DATE:20260309
DTEND;VALUE=DATE:20260310
DTSTAMP:20260426T061605
CREATED:20260305T082019Z
LAST-MODIFIED:20260305T082019Z
UID:10000103-1773014400-1773100799@www.bcnprevencionintegral.com
SUMMARY:TPC EQUIPOS MANUALES 1º SESION
DESCRIPTION:
URL:https://www.bcnprevencionintegral.com/event/tpc-equipos-manuales-1o-sesion/
LOCATION:BCN Prevención Integral – BARCELONA\, C/ Santander\, nº 42-48 - Nave 26-27\, Barcelona\, Barcelona\, 08020\, Spain
END:VEVENT
BEGIN:VEVENT
DTSTART;VALUE=DATE:20260309
DTEND;VALUE=DATE:20260310
DTSTAMP:20260426T061605
CREATED:20260305T081517Z
LAST-MODIFIED:20260305T081905Z
UID:10000102-1773014400-1773100799@www.bcnprevencionintegral.com
SUMMARY:Plataformas Elevadoras Pemp
DESCRIPTION:
URL:https://www.bcnprevencionintegral.com/event/plataformas-elevadoras-pemp-2/2026-03-09/
LOCATION:BCN Prevención Integral – BARCELONA\, C/ Santander\, nº 42-48 - Nave 26-27\, Barcelona\, Barcelona\, 08020\, Spain
END:VEVENT
BEGIN:VEVENT
DTSTART;VALUE=DATE:20260307
DTEND;VALUE=DATE:20260308
DTSTAMP:20260426T061605
CREATED:20260305T080156Z
LAST-MODIFIED:20260305T080156Z
UID:10000061-1772845200-1772926200@www.bcnprevencionintegral.com
SUMMARY:CURSO DE CARRETILLA ELEVADORAS
DESCRIPTION:Curso de carretilla elevadora en Barcelona 100% presencial con normativa UNE. \nConsigue tu carnet de carretillero homologado con formación práctica\, seguridad laboral y certificación válida para empresas. \n 
URL:https://www.bcnprevencionintegral.com/event/curso-de-carretilla-elevadoras-2/2026-03-07/
LOCATION:BCN Prevención Integral – BARCELONA\, C/ Santander\, nº 42-48 - Nave 26-27\, Barcelona\, Barcelona\, 08020\, Spain
ORGANIZER;CN="bcn Prevencion integral":MAILTO:prevencionintegral.com
END:VEVENT
BEGIN:VEVENT
DTSTART;VALUE=DATE:20260307
DTEND;VALUE=DATE:20260308
DTSTAMP:20260426T061605
CREATED:20260216T100254Z
LAST-MODIFIED:20260216T100254Z
UID:10000045-1772845200-1772926200@www.bcnprevencionintegral.com
SUMMARY:Recogepedidos
DESCRIPTION:
URL:https://www.bcnprevencionintegral.com/event/recogepedidos/2026-03-07/
LOCATION:BCN Prevención Integral – BARCELONA\, C/ Santander\, nº 42-48 - Nave 26-27\, Barcelona\, Barcelona\, 08020\, Spain
END:VEVENT
BEGIN:VEVENT
DTSTART;VALUE=DATE:20260307
DTEND;VALUE=DATE:20260308
DTSTAMP:20260426T061605
CREATED:20260216T095810Z
LAST-MODIFIED:20260216T095810Z
UID:10000033-1772845200-1772926200@www.bcnprevencionintegral.com
SUMMARY:Plataformas Elevadoras Pemp
DESCRIPTION:
URL:https://www.bcnprevencionintegral.com/event/plataformas-elevadoras-pemp/2026-03-07/
LOCATION:BCN Prevención Integral – BARCELONA\, C/ Santander\, nº 42-48 - Nave 26-27\, Barcelona\, Barcelona\, 08020\, Spain
END:VEVENT
BEGIN:VEVENT
DTSTART;VALUE=DATE:20260307
DTEND;VALUE=DATE:20260308
DTSTAMP:20260426T061605
CREATED:20260305T081006Z
LAST-MODIFIED:20260305T081006Z
UID:10000076-1772841600-1772927999@www.bcnprevencionintegral.com
SUMMARY:3º Sesión TPC CARPINTERIA METALICA (20H)
DESCRIPTION:
URL:https://www.bcnprevencionintegral.com/event/3o-sesion-tpc-carpinteria-metalica-20h/
LOCATION:BCN Prevención Integral – BARCELONA\, C/ Santander\, nº 42-48 - Nave 26-27\, Barcelona\, Barcelona\, 08020\, Spain
END:VEVENT
BEGIN:VEVENT
DTSTART;VALUE=DATE:20260306
DTEND;VALUE=DATE:20260307
DTSTAMP:20260426T061605
CREATED:20260216T100254Z
LAST-MODIFIED:20260216T100254Z
UID:10000044-1772758800-1772839800@www.bcnprevencionintegral.com
SUMMARY:Recogepedidos
DESCRIPTION:
URL:https://www.bcnprevencionintegral.com/event/recogepedidos/2026-03-06/
LOCATION:BCN Prevención Integral – BARCELONA\, C/ Santander\, nº 42-48 - Nave 26-27\, Barcelona\, Barcelona\, 08020\, Spain
END:VEVENT
BEGIN:VEVENT
DTSTART;VALUE=DATE:20260306
DTEND;VALUE=DATE:20260307
DTSTAMP:20260426T061605
CREATED:20260216T095810Z
LAST-MODIFIED:20260216T095810Z
UID:10000032-1772758800-1772839800@www.bcnprevencionintegral.com
SUMMARY:Plataformas Elevadoras Pemp
DESCRIPTION:
URL:https://www.bcnprevencionintegral.com/event/plataformas-elevadoras-pemp/2026-03-06/
LOCATION:BCN Prevención Integral – BARCELONA\, C/ Santander\, nº 42-48 - Nave 26-27\, Barcelona\, Barcelona\, 08020\, Spain
END:VEVENT
BEGIN:VEVENT
DTSTART;VALUE=DATE:20260306
DTEND;VALUE=DATE:20260307
DTSTAMP:20260426T061605
CREATED:20260305T080156Z
LAST-MODIFIED:20260305T080156Z
UID:10000062-1772755200-1772841599@www.bcnprevencionintegral.com
SUMMARY:CURSO DE CARRETILLA ELEVADORAS
DESCRIPTION:Curso de carretilla elevadora en Barcelona 100% presencial con normativa UNE. \nConsigue tu carnet de carretillero homologado con formación práctica\, seguridad laboral y certificación válida para empresas. \n 
URL:https://www.bcnprevencionintegral.com/event/curso-de-carretilla-elevadoras-2/2026-03-06/
LOCATION:BCN Prevención Integral – BARCELONA\, C/ Santander\, nº 42-48 - Nave 26-27\, Barcelona\, Barcelona\, 08020\, Spain
ORGANIZER;CN="bcn Prevencion integral":MAILTO:prevencionintegral.com
END:VEVENT
END:VCALENDAR